BEGIN:VCALENDAR
VERSION:2.0
PRODID:-//Pacific Grove Middle School PTSA - ECPv6.15.20//NONSGML v1.0//EN
CALSCALE:GREGORIAN
METHOD:PUBLISH
X-WR-CALNAME:Pacific Grove Middle School PTSA
X-ORIGINAL-URL:https://pgmiddleschoolptsa.com
X-WR-CALDESC:Events for Pacific Grove Middle School PTSA
REFRESH-INTERVAL;VALUE=DURATION:PT1H
X-Robots-Tag:noindex
X-PUBLISHED-TTL:PT1H
BEGIN:VTIMEZONE
TZID:America/Los_Angeles
BEGIN:DAYLIGHT
TZOFFSETFROM:-0800
TZOFFSETTO:-0700
TZNAME:PDT
DTSTART:20250309T100000
END:DAYLIGHT
BEGIN:STANDARD
TZOFFSETFROM:-0700
TZOFFSETTO:-0800
TZNAME:PST
DTSTART:20251102T090000
END:STANDARD
BEGIN:DAYLIGHT
TZOFFSETFROM:-0800
TZOFFSETTO:-0700
TZNAME:PDT
DTSTART:20260308T100000
END:DAYLIGHT
BEGIN:STANDARD
TZOFFSETFROM:-0700
TZOFFSETTO:-0800
TZNAME:PST
DTSTART:20261101T090000
END:STANDARD
BEGIN:DAYLIGHT
TZOFFSETFROM:-0800
TZOFFSETTO:-0700
TZNAME:PDT
DTSTART:20270314T100000
END:DAYLIGHT
BEGIN:STANDARD
TZOFFSETFROM:-0700
TZOFFSETTO:-0800
TZNAME:PST
DTSTART:20271107T090000
END:STANDARD
END:VTIMEZONE
BEGIN:VEVENT
DTSTART;VALUE=DATE:20260320
DTEND;VALUE=DATE:20260321
DTSTAMP:20260419T161611
CREATED:20240209T191559Z
LAST-MODIFIED:20260302T001447Z
UID:2417-1773964800-1774051199@pgmiddleschoolptsa.com
SUMMARY:PGMS Music Concert Festival
DESCRIPTION:The Music Concert Festival will be held in the PGMS Auditorium and conducted by Ms. Priest. \n Please silence cell phones and enjoy the show!
URL:https://pgmiddleschoolptsa.com/event/pgms-music-concert-festival/
CATEGORIES:School Event
ATTACH;FMTTYPE=image/webp:https://pgmiddleschoolptsa.com/wp-content/uploads/winter-concert-656fbfe496c71.webp
END:VEVENT
BEGIN:VEVENT
DTSTART;VALUE=DATE:20260410
DTEND;VALUE=DATE:20260411
DTSTAMP:20260419T161611
CREATED:20240209T204607Z
LAST-MODIFIED:20250701T210443Z
UID:2428-1775779200-1775865599@pgmiddleschoolptsa.com
SUMMARY:Minimum Day
DESCRIPTION:Minimum day. Students released at 12:10pm
URL:https://pgmiddleschoolptsa.com/event/minimum-day-3/
CATEGORIES:School Event
ATTACH;FMTTYPE=image/jpeg:https://pgmiddleschoolptsa.com/wp-content/uploads/minimum_day.jpg
END:VEVENT
BEGIN:VEVENT
DTSTART;VALUE=DATE:20260413
DTEND;VALUE=DATE:20260418
DTSTAMP:20260419T161611
CREATED:20240209T202952Z
LAST-MODIFIED:20250701T210530Z
UID:2421-1776038400-1776470399@pgmiddleschoolptsa.com
SUMMARY:Spring Break\, No School
DESCRIPTION:Spring break—enjoy!
URL:https://pgmiddleschoolptsa.com/event/spring-break-no-school/
CATEGORIES:School Event
ATTACH;FMTTYPE=image/webp:https://pgmiddleschoolptsa.com/wp-content/uploads/spring-65c689926f088.webp
END:VEVENT
BEGIN:VEVENT
DTSTART;VALUE=DATE:20260525
DTEND;VALUE=DATE:20260526
DTSTAMP:20260419T161611
CREATED:20240423T184930Z
LAST-MODIFIED:20250701T210608Z
UID:2496-1779667200-1779753599@pgmiddleschoolptsa.com
SUMMARY:Memorial Day - No School
DESCRIPTION:Remember those who have sacrificed their life in military service to our country and our freedom.
URL:https://pgmiddleschoolptsa.com/event/memorial-day/
CATEGORIES:School Event
ATTACH;FMTTYPE=image/webp:https://pgmiddleschoolptsa.com/wp-content/uploads/memorial-66280129460a0.webp
END:VEVENT
BEGIN:VEVENT
DTSTART;TZID=America/Los_Angeles:20260529T083000
DTEND;TZID=America/Los_Angeles:20260529T121000
DTSTAMP:20260419T161611
CREATED:20240423T185258Z
LAST-MODIFIED:20250701T210645Z
UID:2502-1780043400-1780056600@pgmiddleschoolptsa.com
SUMMARY:Last Day of School - Minimum Day
DESCRIPTION:Woo Hoo! Enjoy your summer!
URL:https://pgmiddleschoolptsa.com/event/last-day-of-school-minimum-day/
CATEGORIES:School Event
ATTACH;FMTTYPE=image/webp:https://pgmiddleschoolptsa.com/wp-content/uploads/last-day-662801294e40f.webp
END:VEVENT
END:VCALENDAR