BEGIN:VCALENDAR
VERSION:2.0
PRODID:-//Pacific Grove Middle School PTSA - ECPv6.15.20//NONSGML v1.0//EN
CALSCALE:GREGORIAN
METHOD:PUBLISH
X-WR-CALNAME:Pacific Grove Middle School PTSA
X-ORIGINAL-URL:https://pgmiddleschoolptsa.com
X-WR-CALDESC:Events for Pacific Grove Middle School PTSA
REFRESH-INTERVAL;VALUE=DURATION:PT1H
X-Robots-Tag:noindex
X-PUBLISHED-TTL:PT1H
BEGIN:VTIMEZONE
TZID:America/Los_Angeles
BEGIN:DAYLIGHT
TZOFFSETFROM:-0800
TZOFFSETTO:-0700
TZNAME:PDT
DTSTART:20240310T100000
END:DAYLIGHT
BEGIN:STANDARD
TZOFFSETFROM:-0700
TZOFFSETTO:-0800
TZNAME:PST
DTSTART:20241103T090000
END:STANDARD
BEGIN:DAYLIGHT
TZOFFSETFROM:-0800
TZOFFSETTO:-0700
TZNAME:PDT
DTSTART:20250309T100000
END:DAYLIGHT
BEGIN:STANDARD
TZOFFSETFROM:-0700
TZOFFSETTO:-0800
TZNAME:PST
DTSTART:20251102T090000
END:STANDARD
BEGIN:DAYLIGHT
TZOFFSETFROM:-0800
TZOFFSETTO:-0700
TZNAME:PDT
DTSTART:20260308T100000
END:DAYLIGHT
BEGIN:STANDARD
TZOFFSETFROM:-0700
TZOFFSETTO:-0800
TZNAME:PST
DTSTART:20261101T090000
END:STANDARD
BEGIN:DAYLIGHT
TZOFFSETFROM:-0800
TZOFFSETTO:-0700
TZNAME:PDT
DTSTART:20270314T100000
END:DAYLIGHT
BEGIN:STANDARD
TZOFFSETFROM:-0700
TZOFFSETTO:-0800
TZNAME:PST
DTSTART:20271107T090000
END:STANDARD
END:VTIMEZONE
BEGIN:VEVENT
DTSTART;TZID=America/Los_Angeles:20251209T183000
DTEND;TZID=America/Los_Angeles:20251209T193000
DTSTAMP:20260419T113934
CREATED:20231206T185431Z
LAST-MODIFIED:20250723T182442Z
UID:2297-1765305000-1765308600@pgmiddleschoolptsa.com
SUMMARY:PGMS Winter Choir Concert
DESCRIPTION:Please join us for the PGMS Winter Choir Concert\, conducted by Mr. Masar\, in the Auditorium at PGMS.
URL:https://pgmiddleschoolptsa.com/event/pgms-winter-choir-concert-mr-masar/
CATEGORIES:School Event
ATTACH;FMTTYPE=image/webp:https://pgmiddleschoolptsa.com/wp-content/uploads/winter-choir-6570c22af21a4.webp
END:VEVENT
BEGIN:VEVENT
DTSTART;TZID=America/Los_Angeles:20251210T151500
DTEND;TZID=America/Los_Angeles:20251210T161500
DTSTAMP:20260419T113934
CREATED:20240731T184346Z
LAST-MODIFIED:20250723T182532Z
UID:2566-1765379700-1765383300@pgmiddleschoolptsa.com
SUMMARY:PGMS Winter Sports Pictures
DESCRIPTION:All winter sport athletes come and get your photo taken in front of the school from 3:15—4:15pm.
URL:https://pgmiddleschoolptsa.com/event/pgms-winter-sports-pictures/
CATEGORIES:School Event
ATTACH;FMTTYPE=image/webp:https://pgmiddleschoolptsa.com/wp-content/uploads/sports-portrait-6570c22ec5a46.webp
END:VEVENT
BEGIN:VEVENT
DTSTART;TZID=America/Los_Angeles:20251216T183000
DTEND;TZID=America/Los_Angeles:20251216T193000
DTSTAMP:20260419T113934
CREATED:20231206T003343Z
LAST-MODIFIED:20250828T025043Z
UID:2289-1765909800-1765913400@pgmiddleschoolptsa.com
SUMMARY:PGMS Winter Concert
DESCRIPTION:The Winter Concert will be held in the Auditorium at PGMS and conducted by Ms. Priest. \nMusic students must arrive by 6PM in formal attire. Music starts at 6:30pm. Please silence cell phones and enjoy the show!
URL:https://pgmiddleschoolptsa.com/event/pgms-winter-concert/
CATEGORIES:School Event
ATTACH;FMTTYPE=image/webp:https://pgmiddleschoolptsa.com/wp-content/uploads/winter-concert-656fbfe496c71.webp
END:VEVENT
BEGIN:VEVENT
DTSTART;TZID=America/Los_Angeles:20251219T074500
DTEND;TZID=America/Los_Angeles:20251219T121000
DTSTAMP:20260419T113934
CREATED:20231206T190956Z
LAST-MODIFIED:20250701T205932Z
UID:2300-1766130300-1766146200@pgmiddleschoolptsa.com
SUMMARY:Minimum Day
DESCRIPTION:Minimum day for all students and staff. End of 1st Semester.
URL:https://pgmiddleschoolptsa.com/event/minimum-day-2/
CATEGORIES:School Event
ATTACH;FMTTYPE=image/jpeg:https://pgmiddleschoolptsa.com/wp-content/uploads/minimum_day.jpg
END:VEVENT
BEGIN:VEVENT
DTSTART;VALUE=DATE:20251222
DTEND;VALUE=DATE:20260106
DTSTAMP:20260419T113934
CREATED:20231115T013220Z
LAST-MODIFIED:20250701T210016Z
UID:2191-1766361600-1767657599@pgmiddleschoolptsa.com
SUMMARY:Winter Break - No School
DESCRIPTION:Winter Break — No School.
URL:https://pgmiddleschoolptsa.com/event/winter-break-no-school/
CATEGORIES:School Event
ATTACH;FMTTYPE=image/webp:https://pgmiddleschoolptsa.com/wp-content/uploads/winter-655528d74d1b6.webp
END:VEVENT
BEGIN:VEVENT
DTSTART;VALUE=DATE:20260119
DTEND;VALUE=DATE:20260120
DTSTAMP:20260419T113934
CREATED:20240110T223334Z
LAST-MODIFIED:20250701T210048Z
UID:2315-1768780800-1768867199@pgmiddleschoolptsa.com
SUMMARY:Martin Luther King Jr. Holiday
DESCRIPTION:No school in observance of Martin Luther King Jr.
URL:https://pgmiddleschoolptsa.com/event/martin-luther-king-jr-holiday/
CATEGORIES:School Event
ATTACH;FMTTYPE=image/webp:https://pgmiddleschoolptsa.com/wp-content/uploads/mlk.webp
END:VEVENT
BEGIN:VEVENT
DTSTART;VALUE=DATE:20260206
DTEND;VALUE=DATE:20260209
DTSTAMP:20260419T113934
CREATED:20260202T204030Z
LAST-MODIFIED:20260207T031107Z
UID:2798-1770336000-1770595199@pgmiddleschoolptsa.com
SUMMARY:PGMS musical Beetlejuice Jr.
DESCRIPTION:It’s showtime! \nJoin us at the Pacific Grove Middle School Performing Arts Center for Beetlejuice Jr. \nShowtimes:\nFriday 7pm\nSaturday 3pm & 7pm\nSunday 2pm \nUnder 18 $7\nAdults $10
URL:https://pgmiddleschoolptsa.com/event/pgms-musical-beetlejuice-jr/
CATEGORIES:School Event
ATTACH;FMTTYPE=image/jpeg:https://pgmiddleschoolptsa.com/wp-content/uploads/Beetlejuice-Featured.jpg
END:VEVENT
BEGIN:VEVENT
DTSTART;VALUE=DATE:20260213
DTEND;VALUE=DATE:20260221
DTSTAMP:20260419T113934
CREATED:20240110T232002Z
LAST-MODIFIED:20250701T210250Z
UID:2323-1770940800-1771631999@pgmiddleschoolptsa.com
SUMMARY:President's Break
DESCRIPTION:Presidents’ Holiday & Break. No School. School resumes on Monday\, February 23.
URL:https://pgmiddleschoolptsa.com/event/presidents-break/
CATEGORIES:School Event
ATTACH;FMTTYPE=image/webp:https://pgmiddleschoolptsa.com/wp-content/uploads/rushmore.webp
END:VEVENT
BEGIN:VEVENT
DTSTART;TZID=America/Los_Angeles:20260310T180000
DTEND;TZID=America/Los_Angeles:20260310T183000
DTSTAMP:20260419T113934
CREATED:20260303T213657Z
LAST-MODIFIED:20260303T213657Z
UID:2588-1773165600-1773167400@pgmiddleschoolptsa.com
SUMMARY:PGMS Spring Sportsmanship Night
DESCRIPTION:On March 10 at 6pm we will have a mandatory Sportsmanship Night for all athletes and at least one parent in the PGMS Gym.  Please be sure to attend this mandatory event with your athlete.
URL:https://pgmiddleschoolptsa.com/event/pgms-spring-sportsmanship-night/
CATEGORIES:School Event
ATTACH;FMTTYPE=image/webp:https://pgmiddleschoolptsa.com/wp-content/uploads/pexels-snapwire-618612.webp
END:VEVENT
BEGIN:VEVENT
DTSTART;TZID=America/Los_Angeles:20260311T151500
DTEND;TZID=America/Los_Angeles:20260311T161500
DTSTAMP:20260419T113934
CREATED:20240209T180531Z
LAST-MODIFIED:20260303T213136Z
UID:2414-1773242100-1773245700@pgmiddleschoolptsa.com
SUMMARY:PGMS Spring Sports Pictures
DESCRIPTION:All spring sport athletes come and show your Breaker pride from 3:15—4:15pm.
URL:https://pgmiddleschoolptsa.com/event/pgms-spring-sports-pictures/
CATEGORIES:School Event
ATTACH;FMTTYPE=image/webp:https://pgmiddleschoolptsa.com/wp-content/uploads/sports-portrait-6570c22ec5a46.webp
END:VEVENT
BEGIN:VEVENT
DTSTART;TZID=America/Los_Angeles:20260318T180000
DTEND;TZID=America/Los_Angeles:20260318T193000
DTSTAMP:20260419T113934
CREATED:20240325T183208Z
LAST-MODIFIED:20260309T180117Z
UID:2471-1773856800-1773862200@pgmiddleschoolptsa.com
SUMMARY:PGMS Open House
DESCRIPTION:PGMS 5th Grade Parent & Student Orientation 6:00pm – 6:315pm \nDon’t worry about dinner\, Tacos Don Beto will be serving outside the school!
URL:https://pgmiddleschoolptsa.com/event/pgms-open-house/
CATEGORIES:Dine Out,School Event
ATTACH;FMTTYPE=image/webp:https://pgmiddleschoolptsa.com/wp-content/uploads/open-house-6601c29fd6cb8.webp
END:VEVENT
BEGIN:VEVENT
DTSTART;VALUE=DATE:20260320
DTEND;VALUE=DATE:20260321
DTSTAMP:20260419T113934
CREATED:20240209T191559Z
LAST-MODIFIED:20260302T001447Z
UID:2417-1773964800-1774051199@pgmiddleschoolptsa.com
SUMMARY:PGMS Music Concert Festival
DESCRIPTION:The Music Concert Festival will be held in the PGMS Auditorium and conducted by Ms. Priest. \n Please silence cell phones and enjoy the show!
URL:https://pgmiddleschoolptsa.com/event/pgms-music-concert-festival/
CATEGORIES:School Event
ATTACH;FMTTYPE=image/webp:https://pgmiddleschoolptsa.com/wp-content/uploads/winter-concert-656fbfe496c71.webp
END:VEVENT
BEGIN:VEVENT
DTSTART;VALUE=DATE:20260410
DTEND;VALUE=DATE:20260411
DTSTAMP:20260419T113934
CREATED:20240209T204607Z
LAST-MODIFIED:20250701T210443Z
UID:2428-1775779200-1775865599@pgmiddleschoolptsa.com
SUMMARY:Minimum Day
DESCRIPTION:Minimum day. Students released at 12:10pm
URL:https://pgmiddleschoolptsa.com/event/minimum-day-3/
CATEGORIES:School Event
ATTACH;FMTTYPE=image/jpeg:https://pgmiddleschoolptsa.com/wp-content/uploads/minimum_day.jpg
END:VEVENT
BEGIN:VEVENT
DTSTART;VALUE=DATE:20260413
DTEND;VALUE=DATE:20260418
DTSTAMP:20260419T113934
CREATED:20240209T202952Z
LAST-MODIFIED:20250701T210530Z
UID:2421-1776038400-1776470399@pgmiddleschoolptsa.com
SUMMARY:Spring Break\, No School
DESCRIPTION:Spring break—enjoy!
URL:https://pgmiddleschoolptsa.com/event/spring-break-no-school/
CATEGORIES:School Event
ATTACH;FMTTYPE=image/webp:https://pgmiddleschoolptsa.com/wp-content/uploads/spring-65c689926f088.webp
END:VEVENT
BEGIN:VEVENT
DTSTART;VALUE=DATE:20260525
DTEND;VALUE=DATE:20260526
DTSTAMP:20260419T113934
CREATED:20240423T184930Z
LAST-MODIFIED:20250701T210608Z
UID:2496-1779667200-1779753599@pgmiddleschoolptsa.com
SUMMARY:Memorial Day - No School
DESCRIPTION:Remember those who have sacrificed their life in military service to our country and our freedom.
URL:https://pgmiddleschoolptsa.com/event/memorial-day/
CATEGORIES:School Event
ATTACH;FMTTYPE=image/webp:https://pgmiddleschoolptsa.com/wp-content/uploads/memorial-66280129460a0.webp
END:VEVENT
BEGIN:VEVENT
DTSTART;TZID=America/Los_Angeles:20260529T083000
DTEND;TZID=America/Los_Angeles:20260529T121000
DTSTAMP:20260419T113934
CREATED:20240423T185258Z
LAST-MODIFIED:20250701T210645Z
UID:2502-1780043400-1780056600@pgmiddleschoolptsa.com
SUMMARY:Last Day of School - Minimum Day
DESCRIPTION:Woo Hoo! Enjoy your summer!
URL:https://pgmiddleschoolptsa.com/event/last-day-of-school-minimum-day/
CATEGORIES:School Event
ATTACH;FMTTYPE=image/webp:https://pgmiddleschoolptsa.com/wp-content/uploads/last-day-662801294e40f.webp
END:VEVENT
END:VCALENDAR