BEGIN:VCALENDAR
VERSION:2.0
PRODID:-//Pacific Grove Middle School PTSA - ECPv6.15.20//NONSGML v1.0//EN
CALSCALE:GREGORIAN
METHOD:PUBLISH
X-WR-CALNAME:Pacific Grove Middle School PTSA
X-ORIGINAL-URL:https://pgmiddleschoolptsa.com
X-WR-CALDESC:Events for Pacific Grove Middle School PTSA
REFRESH-INTERVAL;VALUE=DURATION:PT1H
X-Robots-Tag:noindex
X-PUBLISHED-TTL:PT1H
BEGIN:VTIMEZONE
TZID:America/Los_Angeles
BEGIN:DAYLIGHT
TZOFFSETFROM:-0800
TZOFFSETTO:-0700
TZNAME:PDT
DTSTART:20240310T100000
END:DAYLIGHT
BEGIN:STANDARD
TZOFFSETFROM:-0700
TZOFFSETTO:-0800
TZNAME:PST
DTSTART:20241103T090000
END:STANDARD
BEGIN:DAYLIGHT
TZOFFSETFROM:-0800
TZOFFSETTO:-0700
TZNAME:PDT
DTSTART:20250309T100000
END:DAYLIGHT
BEGIN:STANDARD
TZOFFSETFROM:-0700
TZOFFSETTO:-0800
TZNAME:PST
DTSTART:20251102T090000
END:STANDARD
BEGIN:DAYLIGHT
TZOFFSETFROM:-0800
TZOFFSETTO:-0700
TZNAME:PDT
DTSTART:20260308T100000
END:DAYLIGHT
BEGIN:STANDARD
TZOFFSETFROM:-0700
TZOFFSETTO:-0800
TZNAME:PST
DTSTART:20261101T090000
END:STANDARD
BEGIN:DAYLIGHT
TZOFFSETFROM:-0800
TZOFFSETTO:-0700
TZNAME:PDT
DTSTART:20270314T100000
END:DAYLIGHT
BEGIN:STANDARD
TZOFFSETFROM:-0700
TZOFFSETTO:-0800
TZNAME:PST
DTSTART:20271107T090000
END:STANDARD
END:VTIMEZONE
BEGIN:VEVENT
DTSTART;TZID=America/Los_Angeles:20250429T183000
DTEND;TZID=America/Los_Angeles:20250429T193000
DTSTAMP:20260419T190224
CREATED:20240418T023034Z
LAST-MODIFIED:20250107T174717Z
UID:2484-1745951400-1745955000@pgmiddleschoolptsa.com
SUMMARY:Honors Night
DESCRIPTION:Congratulations 3rd quarter Honor Roll students! You are cordially invited to attend Honors Night with your family at the PGMS Auditorium.
URL:https://pgmiddleschoolptsa.com/event/honors-night/
CATEGORIES:School Event
ATTACH;FMTTYPE=image/jpeg:https://pgmiddleschoolptsa.com/wp-content/uploads/honors.jpg
END:VEVENT
BEGIN:VEVENT
DTSTART;VALUE=DATE:20250505
DTEND;VALUE=DATE:20250510
DTSTAMP:20260419T190224
CREATED:20250107T175209Z
LAST-MODIFIED:20250107T180336Z
UID:2683-1746403200-1746835199@pgmiddleschoolptsa.com
SUMMARY:SBAC Testing Math
DESCRIPTION:
URL:https://pgmiddleschoolptsa.com/event/sbac-testing-math/
CATEGORIES:School Event
ATTACH;FMTTYPE=image/jpeg:https://pgmiddleschoolptsa.com/wp-content/uploads/pexels-max-fischer-5212320.jpg
END:VEVENT
BEGIN:VEVENT
DTSTART;TZID=America/Los_Angeles:20250514T183000
DTEND;TZID=America/Los_Angeles:20250514T210000
DTSTAMP:20260419T190224
CREATED:20240423T181951Z
LAST-MODIFIED:20250107T175511Z
UID:2493-1747247400-1747256400@pgmiddleschoolptsa.com
SUMMARY:PGMS Music Spring Instrumental Concert
DESCRIPTION:A culmination of a year of musical discovery\, our Spring Music Concert will begin at 6:30 p.m. in the Auditorium and conducted by Ms. Priest. \nPGMS Spring Concert (Estimated performance times) \n\n6:30PM: String Orchestra\n6:50PM: Concert Band\n7:10PM: Chamber Orchestra\n7:35PM: Full Orchestra\n7:50PM: Symphonic Band\n8:25PM: Jazz Combo\n8:45PM: Jazz Band\n\nPlease silence cell phones and enjoy the show!
URL:https://pgmiddleschoolptsa.com/event/pgms-music-spring-instrumental-concert/
CATEGORIES:School Event
ATTACH;FMTTYPE=image/webp:https://pgmiddleschoolptsa.com/wp-content/uploads/winter-concert-656fbfe496c71.webp
END:VEVENT
BEGIN:VEVENT
DTSTART;TZID=America/Los_Angeles:20250523T083000
DTEND;TZID=America/Los_Angeles:20250523T183000
DTSTAMP:20260419T190224
CREATED:20240423T185939Z
LAST-MODIFIED:20250107T175638Z
UID:2505-1747989000-1748025000@pgmiddleschoolptsa.com
SUMMARY:PGMS 8th grade Field Trip
DESCRIPTION:8th Grade graduation field trip to Santa Cruz Beach Boardwalk!
URL:https://pgmiddleschoolptsa.com/event/pgms-8th-grade-field-trip/
CATEGORIES:School Event
ATTACH;FMTTYPE=image/webp:https://pgmiddleschoolptsa.com/wp-content/uploads/santa-cruz-65c6982e44431.webp
END:VEVENT
BEGIN:VEVENT
DTSTART;TZID=America/Los_Angeles:20250523T090000
DTEND;TZID=America/Los_Angeles:20250523T110000
DTSTAMP:20260419T190224
CREATED:20240423T191705Z
LAST-MODIFIED:20250107T175550Z
UID:2508-1747990800-1747998000@pgmiddleschoolptsa.com
SUMMARY:PGMS 5th Grade Student Orientation
DESCRIPTION:Orientation for all incoming 5th grade students in the PGMS Auditorium.
URL:https://pgmiddleschoolptsa.com/event/pgms-5th-grade-student-orientation/
CATEGORIES:School Event
ATTACH;FMTTYPE=image/jpeg:https://pgmiddleschoolptsa.com/wp-content/uploads/orientation.jpg
END:VEVENT
BEGIN:VEVENT
DTSTART;TZID=America/Los_Angeles:20250530T090000
DTEND;TZID=America/Los_Angeles:20250530T100000
DTSTAMP:20260419T190224
CREATED:20250107T180047Z
LAST-MODIFIED:20250107T180047Z
UID:2688-1748595600-1748599200@pgmiddleschoolptsa.com
SUMMARY:8th Grade Breakfast in the Park
DESCRIPTION:
URL:https://pgmiddleschoolptsa.com/event/8th-grade-breakfast-in-the-park/
CATEGORIES:School Event
ATTACH;FMTTYPE=image/webp:https://pgmiddleschoolptsa.com/wp-content/uploads/breakfast-655525ab535ae.webp
END:VEVENT
BEGIN:VEVENT
DTSTART;TZID=America/Los_Angeles:20250729T090000
DTEND;TZID=America/Los_Angeles:20250729T130000
DTSTAMP:20260419T190224
CREATED:20250715T181255Z
LAST-MODIFIED:20250715T181255Z
UID:2715-1753779600-1753794000@pgmiddleschoolptsa.com
SUMMARY:PGMS Registration Round-Up\, 6th gr. & New Students to the District
DESCRIPTION:PGMS Registration Round-Up\, 6th gr. & New Students to the District
URL:https://pgmiddleschoolptsa.com/event/pgms-registration-round-up-6th-gr-new-students-to-the-district/
CATEGORIES:School Event
ATTACH;FMTTYPE=image/webp:https://pgmiddleschoolptsa.com/wp-content/uploads/registration-6876999239988.webp
END:VEVENT
BEGIN:VEVENT
DTSTART;TZID=America/Los_Angeles:20250730T090000
DTEND;TZID=America/Los_Angeles:20250730T130000
DTSTAMP:20260419T190224
CREATED:20250715T181416Z
LAST-MODIFIED:20250715T181416Z
UID:2718-1753866000-1753880400@pgmiddleschoolptsa.com
SUMMARY:PGMS Registration Round-Up\, 7th & 8th graders
DESCRIPTION:PGMS Registration Round-Up\, 7th & 8th graders
URL:https://pgmiddleschoolptsa.com/event/pgms-registration-round-up-7th-8th-graders/
CATEGORIES:School Event
ATTACH;FMTTYPE=image/webp:https://pgmiddleschoolptsa.com/wp-content/uploads/open-house-687699921fdd4.webp
END:VEVENT
BEGIN:VEVENT
DTSTART;VALUE=DATE:20250805
DTEND;VALUE=DATE:20250806
DTSTAMP:20260419T190224
CREATED:20240725T184036Z
LAST-MODIFIED:20250701T205345Z
UID:2528-1754352000-1754438399@pgmiddleschoolptsa.com
SUMMARY:First Day of School
DESCRIPTION:First day of School – Woohoo!
URL:https://pgmiddleschoolptsa.com/event/first-day-of-school/
CATEGORIES:School Event
ATTACH;FMTTYPE=image/jpeg:https://pgmiddleschoolptsa.com/wp-content/uploads/First-Day.jpg
END:VEVENT
BEGIN:VEVENT
DTSTART;TZID=America/Los_Angeles:20250826T180000
DTEND;TZID=America/Los_Angeles:20250826T183000
DTSTAMP:20260419T190224
CREATED:20240731T161704Z
LAST-MODIFIED:20250818T170321Z
UID:2555-1756231200-1756233000@pgmiddleschoolptsa.com
SUMMARY:PGMS Fall Sportsmanship Night
DESCRIPTION:Join us for PGMS Fall Sportsmanship Night in the Gym.
URL:https://pgmiddleschoolptsa.com/event/pgms-fall-sportsmanship-night/
CATEGORIES:School Event
ATTACH;FMTTYPE=image/jpeg:https://pgmiddleschoolptsa.com/wp-content/uploads/soccer.jpg
END:VEVENT
BEGIN:VEVENT
DTSTART;TZID=America/Los_Angeles:20250827T183000
DTEND;TZID=America/Los_Angeles:20250827T193000
DTSTAMP:20260419T190224
CREATED:20240822T180855Z
LAST-MODIFIED:20250811T175553Z
UID:2605-1756319400-1756323000@pgmiddleschoolptsa.com
SUMMARY:Back to School Night
DESCRIPTION:This event is set to begin at 6:30 in our Performing Arts Center with teacher introductions and a few words from Mr. Roach. Then you will be able to follow your students’ schedule\, as you attend their classes and gain some valuable information about how to support your students’ success!
URL:https://pgmiddleschoolptsa.com/event/back-to-school-night/
CATEGORIES:School Event
ATTACH;FMTTYPE=image/jpeg:https://pgmiddleschoolptsa.com/wp-content/uploads/back-to-school.jpg
END:VEVENT
BEGIN:VEVENT
DTSTART;VALUE=DATE:20250901
DTEND;VALUE=DATE:20250902
DTSTAMP:20260419T190224
CREATED:20240725T191456Z
LAST-MODIFIED:20250701T205427Z
UID:2533-1756684800-1756771199@pgmiddleschoolptsa.com
SUMMARY:Labor Day - No School
DESCRIPTION:Labor Day – No School
URL:https://pgmiddleschoolptsa.com/event/labor-day-no-school/
CATEGORIES:School Event
ATTACH;FMTTYPE=image/jpeg:https://pgmiddleschoolptsa.com/wp-content/uploads/Labor-Day.jpg
END:VEVENT
BEGIN:VEVENT
DTSTART;VALUE=DATE:20250910
DTEND;VALUE=DATE:20250911
DTSTAMP:20260419T190224
CREATED:20190827T160906Z
LAST-MODIFIED:20250715T184621Z
UID:1644-1757462400-1757548799@pgmiddleschoolptsa.com
SUMMARY:Picture Day
DESCRIPTION:School Picture Day
URL:https://pgmiddleschoolptsa.com/event/picture-day/
CATEGORIES:School Event
ATTACH;FMTTYPE=image/jpeg:https://pgmiddleschoolptsa.com/wp-content/uploads/image.jpeg
END:VEVENT
BEGIN:VEVENT
DTSTART;TZID=America/Los_Angeles:20251008T151500
DTEND;TZID=America/Los_Angeles:20251008T161500
DTSTAMP:20260419T190224
CREATED:20231206T185148Z
LAST-MODIFIED:20250723T180834Z
UID:2294-1759936500-1759940100@pgmiddleschoolptsa.com
SUMMARY:PGMS Fall Sports Pictures
DESCRIPTION:All fall sport athletes come and get your photo taken in front of the school from 3:15—4:15pm.
URL:https://pgmiddleschoolptsa.com/event/pgms-fall-sports-pictures/
CATEGORIES:School Event
ATTACH;FMTTYPE=image/webp:https://pgmiddleschoolptsa.com/wp-content/uploads/sports-portrait-6570c22ec5a46.webp
END:VEVENT
BEGIN:VEVENT
DTSTART;VALUE=DATE:20251013
DTEND;VALUE=DATE:20251018
DTSTAMP:20260419T190224
CREATED:20240725T192832Z
LAST-MODIFIED:20250701T205636Z
UID:2539-1760313600-1760745599@pgmiddleschoolptsa.com
SUMMARY:Fall Break - No School
DESCRIPTION:Fall Break – No School
URL:https://pgmiddleschoolptsa.com/event/fall-break-no-school/
CATEGORIES:School Event
ATTACH;FMTTYPE=image/jpeg:https://pgmiddleschoolptsa.com/wp-content/uploads/Fall.jpg
END:VEVENT
BEGIN:VEVENT
DTSTART;VALUE=DATE:20251020
DTEND;VALUE=DATE:20251025
DTSTAMP:20260419T190224
CREATED:20250106T173755Z
LAST-MODIFIED:20250723T181358Z
UID:2662-1760918400-1761350399@pgmiddleschoolptsa.com
SUMMARY:Parent Teacher Conferences
DESCRIPTION:Minimum day schedule. Students excused at 12:10pm
URL:https://pgmiddleschoolptsa.com/event/parent-teacher-conferences/
CATEGORIES:School Event
ATTACH;FMTTYPE=image/jpeg:https://pgmiddleschoolptsa.com/wp-content/uploads/pexels-max-fischer-5212320.jpg
END:VEVENT
BEGIN:VEVENT
DTSTART;TZID=America/Los_Angeles:20251107T190000
DTEND;TZID=America/Los_Angeles:20251107T210000
DTSTAMP:20260419T190224
CREATED:20231012T185810Z
LAST-MODIFIED:20251022T170505Z
UID:1940-1762542000-1762549200@pgmiddleschoolptsa.com
SUMMARY:PGMS Fall Ball Dance
DESCRIPTION:Dust off those dancing shoes! This event is for 7th & 8th grade only. \nStudents are very excited about the upcoming Fall Ball Dance which will be for our 7th and 8th grade students on Friday\, November 7th from 7-9pm. \nOur wonderful PGMS Leadership class will be putting on the event\, but they could really use your support! \nFollow this Signup Genius link\, if you would like to help us out with food and drink donations.
URL:https://pgmiddleschoolptsa.com/event/pgms-fall-ball-dance/
CATEGORIES:PTA Event,School Event
ATTACH;FMTTYPE=image/webp:https://pgmiddleschoolptsa.com/wp-content/uploads/dance-65551e6241ed8.webp
END:VEVENT
BEGIN:VEVENT
DTSTART;VALUE=DATE:20251111
DTEND;VALUE=DATE:20251112
DTSTAMP:20260419T190224
CREATED:20240731T191955Z
LAST-MODIFIED:20250701T205718Z
UID:2575-1762819200-1762905599@pgmiddleschoolptsa.com
SUMMARY:Veterans Day - No School
DESCRIPTION:Thank you for your service.
URL:https://pgmiddleschoolptsa.com/event/veterans-day-no-school/
CATEGORIES:School Event
ATTACH;FMTTYPE=image/jpeg:https://pgmiddleschoolptsa.com/wp-content/uploads/veterans-day.jpg
END:VEVENT
BEGIN:VEVENT
DTSTART;TZID=America/Los_Angeles:20251114T083000
DTEND;TZID=America/Los_Angeles:20251114T090000
DTSTAMP:20260419T190224
CREATED:20231110T212752Z
LAST-MODIFIED:20250822T023034Z
UID:2169-1763109000-1763110800@pgmiddleschoolptsa.com
SUMMARY:Ruby Bridges Walk to School Day
DESCRIPTION:Ruby Bridges Walk to School Day: PGMS will be celebrating and learning about Ruby Bridges who  became the first African American child to integrate a white Southern elementary school. On November 14\, 1960\, she had to be escorted due to threats of violence. We will walk as a school from PGMS to Lighthouse Avenue draped in purple to symbolically walk Ruby’s walk to school. This event will take place on Friday\, November 14th at 8:30 am. If you would like to opt your student out\, or if you would like to attend the walk with us\, please email sroach@pgusd.org.
URL:https://pgmiddleschoolptsa.com/event/ruby-bridges-walk/
CATEGORIES:School Event
ATTACH;FMTTYPE=image/webp:https://pgmiddleschoolptsa.com/wp-content/uploads/walk-655525d52c888.webp
END:VEVENT
BEGIN:VEVENT
DTSTART;TZID=America/Los_Angeles:20251126T074500
DTEND;TZID=America/Los_Angeles:20251126T121000
DTSTAMP:20260419T190224
CREATED:20231115T005905Z
LAST-MODIFIED:20250701T205820Z
UID:2182-1764143100-1764159000@pgmiddleschoolptsa.com
SUMMARY:Minimum Day
DESCRIPTION:Minimum day for all students and staff.
URL:https://pgmiddleschoolptsa.com/event/minimum-day/
CATEGORIES:School Event
ATTACH;FMTTYPE=image/webp:https://pgmiddleschoolptsa.com/wp-content/uploads/skate-day-65551e9f21aa3.webp
END:VEVENT
BEGIN:VEVENT
DTSTART;VALUE=DATE:20251127
DTEND;VALUE=DATE:20251129
DTSTAMP:20260419T190224
CREATED:20231115T010735Z
LAST-MODIFIED:20250701T205858Z
UID:2185-1764201600-1764374399@pgmiddleschoolptsa.com
SUMMARY:Thanksgiving Holiday
DESCRIPTION:Thanksgiving Holiday. No school.
URL:https://pgmiddleschoolptsa.com/event/thanksgiving-holiday/
CATEGORIES:School Event
ATTACH;FMTTYPE=image/webp:https://pgmiddleschoolptsa.com/wp-content/uploads/thanks-6555258065e85.webp
END:VEVENT
BEGIN:VEVENT
DTSTART;VALUE=DATE:20251202
DTEND;VALUE=DATE:20251206
DTSTAMP:20260419T190224
CREATED:20240110T232712Z
LAST-MODIFIED:20250723T182357Z
UID:2325-1764633600-1764979199@pgmiddleschoolptsa.com
SUMMARY:6th Grade Outdoor Science School
DESCRIPTION:PGMS 6th Grade Outdoor Science School. \n“A mellow week is in store for those students who decide to remain at PGMS.” — Mr. Roach
URL:https://pgmiddleschoolptsa.com/event/6th-grade-outdoor-science-school/
CATEGORIES:School Event
ATTACH;FMTTYPE=image/webp:https://pgmiddleschoolptsa.com/wp-content/uploads/redwoods.webp
END:VEVENT
BEGIN:VEVENT
DTSTART;TZID=America/Los_Angeles:20251209T183000
DTEND;TZID=America/Los_Angeles:20251209T193000
DTSTAMP:20260419T190224
CREATED:20231206T185431Z
LAST-MODIFIED:20250723T182442Z
UID:2297-1765305000-1765308600@pgmiddleschoolptsa.com
SUMMARY:PGMS Winter Choir Concert
DESCRIPTION:Please join us for the PGMS Winter Choir Concert\, conducted by Mr. Masar\, in the Auditorium at PGMS.
URL:https://pgmiddleschoolptsa.com/event/pgms-winter-choir-concert-mr-masar/
CATEGORIES:School Event
ATTACH;FMTTYPE=image/webp:https://pgmiddleschoolptsa.com/wp-content/uploads/winter-choir-6570c22af21a4.webp
END:VEVENT
BEGIN:VEVENT
DTSTART;TZID=America/Los_Angeles:20251210T151500
DTEND;TZID=America/Los_Angeles:20251210T161500
DTSTAMP:20260419T190224
CREATED:20240731T184346Z
LAST-MODIFIED:20250723T182532Z
UID:2566-1765379700-1765383300@pgmiddleschoolptsa.com
SUMMARY:PGMS Winter Sports Pictures
DESCRIPTION:All winter sport athletes come and get your photo taken in front of the school from 3:15—4:15pm.
URL:https://pgmiddleschoolptsa.com/event/pgms-winter-sports-pictures/
CATEGORIES:School Event
ATTACH;FMTTYPE=image/webp:https://pgmiddleschoolptsa.com/wp-content/uploads/sports-portrait-6570c22ec5a46.webp
END:VEVENT
BEGIN:VEVENT
DTSTART;TZID=America/Los_Angeles:20251216T183000
DTEND;TZID=America/Los_Angeles:20251216T193000
DTSTAMP:20260419T190224
CREATED:20231206T003343Z
LAST-MODIFIED:20250828T025043Z
UID:2289-1765909800-1765913400@pgmiddleschoolptsa.com
SUMMARY:PGMS Winter Concert
DESCRIPTION:The Winter Concert will be held in the Auditorium at PGMS and conducted by Ms. Priest. \nMusic students must arrive by 6PM in formal attire. Music starts at 6:30pm. Please silence cell phones and enjoy the show!
URL:https://pgmiddleschoolptsa.com/event/pgms-winter-concert/
CATEGORIES:School Event
ATTACH;FMTTYPE=image/webp:https://pgmiddleschoolptsa.com/wp-content/uploads/winter-concert-656fbfe496c71.webp
END:VEVENT
BEGIN:VEVENT
DTSTART;TZID=America/Los_Angeles:20251219T074500
DTEND;TZID=America/Los_Angeles:20251219T121000
DTSTAMP:20260419T190224
CREATED:20231206T190956Z
LAST-MODIFIED:20250701T205932Z
UID:2300-1766130300-1766146200@pgmiddleschoolptsa.com
SUMMARY:Minimum Day
DESCRIPTION:Minimum day for all students and staff. End of 1st Semester.
URL:https://pgmiddleschoolptsa.com/event/minimum-day-2/
CATEGORIES:School Event
ATTACH;FMTTYPE=image/jpeg:https://pgmiddleschoolptsa.com/wp-content/uploads/minimum_day.jpg
END:VEVENT
BEGIN:VEVENT
DTSTART;VALUE=DATE:20251222
DTEND;VALUE=DATE:20260106
DTSTAMP:20260419T190224
CREATED:20231115T013220Z
LAST-MODIFIED:20250701T210016Z
UID:2191-1766361600-1767657599@pgmiddleschoolptsa.com
SUMMARY:Winter Break - No School
DESCRIPTION:Winter Break — No School.
URL:https://pgmiddleschoolptsa.com/event/winter-break-no-school/
CATEGORIES:School Event
ATTACH;FMTTYPE=image/webp:https://pgmiddleschoolptsa.com/wp-content/uploads/winter-655528d74d1b6.webp
END:VEVENT
BEGIN:VEVENT
DTSTART;VALUE=DATE:20260119
DTEND;VALUE=DATE:20260120
DTSTAMP:20260419T190224
CREATED:20240110T223334Z
LAST-MODIFIED:20250701T210048Z
UID:2315-1768780800-1768867199@pgmiddleschoolptsa.com
SUMMARY:Martin Luther King Jr. Holiday
DESCRIPTION:No school in observance of Martin Luther King Jr.
URL:https://pgmiddleschoolptsa.com/event/martin-luther-king-jr-holiday/
CATEGORIES:School Event
ATTACH;FMTTYPE=image/webp:https://pgmiddleschoolptsa.com/wp-content/uploads/mlk.webp
END:VEVENT
BEGIN:VEVENT
DTSTART;VALUE=DATE:20260206
DTEND;VALUE=DATE:20260209
DTSTAMP:20260419T190224
CREATED:20260202T204030Z
LAST-MODIFIED:20260207T031107Z
UID:2798-1770336000-1770595199@pgmiddleschoolptsa.com
SUMMARY:PGMS musical Beetlejuice Jr.
DESCRIPTION:It’s showtime! \nJoin us at the Pacific Grove Middle School Performing Arts Center for Beetlejuice Jr. \nShowtimes:\nFriday 7pm\nSaturday 3pm & 7pm\nSunday 2pm \nUnder 18 $7\nAdults $10
URL:https://pgmiddleschoolptsa.com/event/pgms-musical-beetlejuice-jr/
CATEGORIES:School Event
ATTACH;FMTTYPE=image/jpeg:https://pgmiddleschoolptsa.com/wp-content/uploads/Beetlejuice-Featured.jpg
END:VEVENT
BEGIN:VEVENT
DTSTART;VALUE=DATE:20260213
DTEND;VALUE=DATE:20260221
DTSTAMP:20260419T190224
CREATED:20240110T232002Z
LAST-MODIFIED:20250701T210250Z
UID:2323-1770940800-1771631999@pgmiddleschoolptsa.com
SUMMARY:President's Break
DESCRIPTION:Presidents’ Holiday & Break. No School. School resumes on Monday\, February 23.
URL:https://pgmiddleschoolptsa.com/event/presidents-break/
CATEGORIES:School Event
ATTACH;FMTTYPE=image/webp:https://pgmiddleschoolptsa.com/wp-content/uploads/rushmore.webp
END:VEVENT
END:VCALENDAR