BEGIN:VCALENDAR
VERSION:2.0
PRODID:-//Pacific Grove Middle School PTSA - ECPv6.15.20//NONSGML v1.0//EN
CALSCALE:GREGORIAN
METHOD:PUBLISH
X-ORIGINAL-URL:https://pgmiddleschoolptsa.com
X-WR-CALDESC:Events for Pacific Grove Middle School PTSA
REFRESH-INTERVAL;VALUE=DURATION:PT1H
X-Robots-Tag:noindex
X-PUBLISHED-TTL:PT1H
BEGIN:VTIMEZONE
TZID:America/Los_Angeles
BEGIN:DAYLIGHT
TZOFFSETFROM:-0800
TZOFFSETTO:-0700
TZNAME:PDT
DTSTART:20240310T100000
END:DAYLIGHT
BEGIN:STANDARD
TZOFFSETFROM:-0700
TZOFFSETTO:-0800
TZNAME:PST
DTSTART:20241103T090000
END:STANDARD
BEGIN:DAYLIGHT
TZOFFSETFROM:-0800
TZOFFSETTO:-0700
TZNAME:PDT
DTSTART:20250309T100000
END:DAYLIGHT
BEGIN:STANDARD
TZOFFSETFROM:-0700
TZOFFSETTO:-0800
TZNAME:PST
DTSTART:20251102T090000
END:STANDARD
BEGIN:DAYLIGHT
TZOFFSETFROM:-0800
TZOFFSETTO:-0700
TZNAME:PDT
DTSTART:20260308T100000
END:DAYLIGHT
BEGIN:STANDARD
TZOFFSETFROM:-0700
TZOFFSETTO:-0800
TZNAME:PST
DTSTART:20261101T090000
END:STANDARD
END:VTIMEZONE
BEGIN:VEVENT
DTSTART;TZID=America/Los_Angeles:20251008T151500
DTEND;TZID=America/Los_Angeles:20251008T161500
DTSTAMP:20260421T143144
CREATED:20231206T185148Z
LAST-MODIFIED:20250723T180834Z
UID:2294-1759936500-1759940100@pgmiddleschoolptsa.com
SUMMARY:PGMS Fall Sports Pictures
DESCRIPTION:All fall sport athletes come and get your photo taken in front of the school from 3:15—4:15pm.
URL:https://pgmiddleschoolptsa.com/event/pgms-fall-sports-pictures/
CATEGORIES:School Event
ATTACH;FMTTYPE=image/webp:https://pgmiddleschoolptsa.com/wp-content/uploads/sports-portrait-6570c22ec5a46.webp
END:VEVENT
END:VCALENDAR