BEGIN:VCALENDAR
VERSION:2.0
PRODID:-//Pacific Grove Middle School PTSA - ECPv6.15.20//NONSGML v1.0//EN
CALSCALE:GREGORIAN
METHOD:PUBLISH
X-ORIGINAL-URL:https://pgmiddleschoolptsa.com
X-WR-CALDESC:Events for Pacific Grove Middle School PTSA
REFRESH-INTERVAL;VALUE=DURATION:PT1H
X-Robots-Tag:noindex
X-PUBLISHED-TTL:PT1H
BEGIN:VTIMEZONE
TZID:America/Los_Angeles
BEGIN:DAYLIGHT
TZOFFSETFROM:-0800
TZOFFSETTO:-0700
TZNAME:PDT
DTSTART:20230312T100000
END:DAYLIGHT
BEGIN:STANDARD
TZOFFSETFROM:-0700
TZOFFSETTO:-0800
TZNAME:PST
DTSTART:20231105T090000
END:STANDARD
BEGIN:DAYLIGHT
TZOFFSETFROM:-0800
TZOFFSETTO:-0700
TZNAME:PDT
DTSTART:20240310T100000
END:DAYLIGHT
BEGIN:STANDARD
TZOFFSETFROM:-0700
TZOFFSETTO:-0800
TZNAME:PST
DTSTART:20241103T090000
END:STANDARD
BEGIN:DAYLIGHT
TZOFFSETFROM:-0800
TZOFFSETTO:-0700
TZNAME:PDT
DTSTART:20250309T100000
END:DAYLIGHT
BEGIN:STANDARD
TZOFFSETFROM:-0700
TZOFFSETTO:-0800
TZNAME:PST
DTSTART:20251102T090000
END:STANDARD
END:VTIMEZONE
BEGIN:VEVENT
DTSTART;TZID=America/Los_Angeles:20241126T181500
DTEND;TZID=America/Los_Angeles:20241126T191500
DTSTAMP:20260419T125345
CREATED:20240731T215211Z
LAST-MODIFIED:20240731T215211Z
UID:2586-1732644900-1732648500@pgmiddleschoolptsa.com
SUMMARY:6th Grade PGMS Winter Sportsmanship Night
DESCRIPTION:Join us for 6th grade PGMS Winter Sportsmanship Night in the Gym.
URL:https://pgmiddleschoolptsa.com/event/6th-grade-pgms-winter-sportsmanship-night/
CATEGORIES:School Event
ATTACH;FMTTYPE=image/webp:https://pgmiddleschoolptsa.com/wp-content/uploads/basketball-655528d4e03cc.webp
END:VEVENT
END:VCALENDAR