BEGIN:VCALENDAR
VERSION:2.0
PRODID:-//Pacific Grove Middle School PTSA - ECPv6.15.20//NONSGML v1.0//EN
CALSCALE:GREGORIAN
METHOD:PUBLISH
X-WR-CALNAME:Pacific Grove Middle School PTSA
X-ORIGINAL-URL:https://pgmiddleschoolptsa.com
X-WR-CALDESC:Events for Pacific Grove Middle School PTSA
REFRESH-INTERVAL;VALUE=DURATION:PT1H
X-Robots-Tag:noindex
X-PUBLISHED-TTL:PT1H
BEGIN:VTIMEZONE
TZID:America/Los_Angeles
BEGIN:DAYLIGHT
TZOFFSETFROM:-0800
TZOFFSETTO:-0700
TZNAME:PDT
DTSTART:20240310T100000
END:DAYLIGHT
BEGIN:STANDARD
TZOFFSETFROM:-0700
TZOFFSETTO:-0800
TZNAME:PST
DTSTART:20241103T090000
END:STANDARD
BEGIN:DAYLIGHT
TZOFFSETFROM:-0800
TZOFFSETTO:-0700
TZNAME:PDT
DTSTART:20250309T100000
END:DAYLIGHT
BEGIN:STANDARD
TZOFFSETFROM:-0700
TZOFFSETTO:-0800
TZNAME:PST
DTSTART:20251102T090000
END:STANDARD
BEGIN:DAYLIGHT
TZOFFSETFROM:-0800
TZOFFSETTO:-0700
TZNAME:PDT
DTSTART:20260308T100000
END:DAYLIGHT
BEGIN:STANDARD
TZOFFSETFROM:-0700
TZOFFSETTO:-0800
TZNAME:PST
DTSTART:20261101T090000
END:STANDARD
END:VTIMEZONE
BEGIN:VEVENT
DTSTART;TZID=America/Los_Angeles:20251107T190000
DTEND;TZID=America/Los_Angeles:20251107T210000
DTSTAMP:20260423T025411
CREATED:20231012T185810Z
LAST-MODIFIED:20251022T170505Z
UID:1940-1762542000-1762549200@pgmiddleschoolptsa.com
SUMMARY:PGMS Fall Ball Dance
DESCRIPTION:Dust off those dancing shoes! This event is for 7th & 8th grade only. \nStudents are very excited about the upcoming Fall Ball Dance which will be for our 7th and 8th grade students on Friday\, November 7th from 7-9pm. \nOur wonderful PGMS Leadership class will be putting on the event\, but they could really use your support! \nFollow this Signup Genius link\, if you would like to help us out with food and drink donations.
URL:https://pgmiddleschoolptsa.com/event/pgms-fall-ball-dance/
CATEGORIES:PTA Event,School Event
ATTACH;FMTTYPE=image/webp:https://pgmiddleschoolptsa.com/wp-content/uploads/dance-65551e6241ed8.webp
END:VEVENT
BEGIN:VEVENT
DTSTART;VALUE=DATE:20251111
DTEND;VALUE=DATE:20251112
DTSTAMP:20260423T025411
CREATED:20240731T191955Z
LAST-MODIFIED:20250701T205718Z
UID:2575-1762819200-1762905599@pgmiddleschoolptsa.com
SUMMARY:Veterans Day - No School
DESCRIPTION:Thank you for your service.
URL:https://pgmiddleschoolptsa.com/event/veterans-day-no-school/
CATEGORIES:School Event
ATTACH;FMTTYPE=image/jpeg:https://pgmiddleschoolptsa.com/wp-content/uploads/veterans-day.jpg
END:VEVENT
BEGIN:VEVENT
DTSTART;TZID=America/Los_Angeles:20251114T083000
DTEND;TZID=America/Los_Angeles:20251114T090000
DTSTAMP:20260423T025411
CREATED:20231110T212752Z
LAST-MODIFIED:20250822T023034Z
UID:2169-1763109000-1763110800@pgmiddleschoolptsa.com
SUMMARY:Ruby Bridges Walk to School Day
DESCRIPTION:Ruby Bridges Walk to School Day: PGMS will be celebrating and learning about Ruby Bridges who  became the first African American child to integrate a white Southern elementary school. On November 14\, 1960\, she had to be escorted due to threats of violence. We will walk as a school from PGMS to Lighthouse Avenue draped in purple to symbolically walk Ruby’s walk to school. This event will take place on Friday\, November 14th at 8:30 am. If you would like to opt your student out\, or if you would like to attend the walk with us\, please email sroach@pgusd.org.
URL:https://pgmiddleschoolptsa.com/event/ruby-bridges-walk/
CATEGORIES:School Event
ATTACH;FMTTYPE=image/webp:https://pgmiddleschoolptsa.com/wp-content/uploads/walk-655525d52c888.webp
END:VEVENT
BEGIN:VEVENT
DTSTART;TZID=America/Los_Angeles:20251126T074500
DTEND;TZID=America/Los_Angeles:20251126T121000
DTSTAMP:20260423T025411
CREATED:20231115T005905Z
LAST-MODIFIED:20250701T205820Z
UID:2182-1764143100-1764159000@pgmiddleschoolptsa.com
SUMMARY:Minimum Day
DESCRIPTION:Minimum day for all students and staff.
URL:https://pgmiddleschoolptsa.com/event/minimum-day/
CATEGORIES:School Event
ATTACH;FMTTYPE=image/webp:https://pgmiddleschoolptsa.com/wp-content/uploads/skate-day-65551e9f21aa3.webp
END:VEVENT
BEGIN:VEVENT
DTSTART;VALUE=DATE:20251127
DTEND;VALUE=DATE:20251129
DTSTAMP:20260423T025411
CREATED:20231115T010735Z
LAST-MODIFIED:20250701T205858Z
UID:2185-1764201600-1764374399@pgmiddleschoolptsa.com
SUMMARY:Thanksgiving Holiday
DESCRIPTION:Thanksgiving Holiday. No school.
URL:https://pgmiddleschoolptsa.com/event/thanksgiving-holiday/
CATEGORIES:School Event
ATTACH;FMTTYPE=image/webp:https://pgmiddleschoolptsa.com/wp-content/uploads/thanks-6555258065e85.webp
END:VEVENT
END:VCALENDAR